Package: EGAD Version: 1.34.0 Command: rm -rf EGAD.buildbin-libdir && mkdir EGAD.buildbin-libdir && F:\biocbuild\bbs-3.20-bioc\R\bin\R.exe CMD INSTALL --build --library=EGAD.buildbin-libdir EGAD_1.34.0.tar.gz StartedAt: 2025-01-31 08:35:31 -0500 (Fri, 31 Jan 2025) EndedAt: 2025-01-31 08:36:37 -0500 (Fri, 31 Jan 2025) EllapsedTime: 66.2 seconds RetCode: 0 Status: OK PackageFile: EGAD_1.34.0.zip PackageFileSize: 35.64 MiB