Package: EGAD Version: 1.34.0 Command: /home/biocbuild/bbs-3.20-bioc/R/bin/R CMD check --install=check:EGAD.install-out.txt --library=/home/biocbuild/bbs-3.20-bioc/R/site-library --timings EGAD_1.34.0.tar.gz StartedAt: 2025-01-30 21:53:28 -0500 (Thu, 30 Jan 2025) EndedAt: 2025-01-30 21:56:30 -0500 (Thu, 30 Jan 2025) EllapsedTime: 182.2 seconds RetCode: 0 Status: WARNINGS CheckDir: EGAD.Rcheck Warnings: 1