Package: EGAD Version: 1.34.0 Command: /Library/Frameworks/R.framework/Resources/bin/R CMD INSTALL EGAD StartedAt: 2025-01-30 16:11:17 -0500 (Thu, 30 Jan 2025) EndedAt: 2025-01-30 16:12:39 -0500 (Thu, 30 Jan 2025) EllapsedTime: 82.0 seconds RetCode: 0 Status: OK