Package: EDIRquery Version: 1.6.0 Command: chmod a+r EDIRquery -R && F:\biocbuild\bbs-3.20-bioc\R\bin\R.exe CMD build --keep-empty-dirs --no-resave-data EDIRquery StartedAt: 2025-01-30 18:34:59 -0500 (Thu, 30 Jan 2025) EndedAt: 2025-01-30 18:35:52 -0500 (Thu, 30 Jan 2025) EllapsedTime: 52.5 seconds RetCode: 0 Status: OK PackageFile: EDIRquery_1.6.0.tar.gz PackageFileSize: 1.377 MiB