Package: EDIRquery Version: 1.6.0 Command: rm -rf EDIRquery.buildbin-libdir && mkdir EDIRquery.buildbin-libdir && F:\biocbuild\bbs-3.20-bioc\R\bin\R.exe CMD INSTALL --build --library=EDIRquery.buildbin-libdir EDIRquery_1.6.0.tar.gz StartedAt: 2025-01-31 08:35:27 -0500 (Fri, 31 Jan 2025) EndedAt: 2025-01-31 08:36:05 -0500 (Fri, 31 Jan 2025) EllapsedTime: 37.6 seconds RetCode: 0 Status: OK PackageFile: EDIRquery_1.6.0.zip PackageFileSize: 1.629 MiB