Package: EDIRquery Version: 1.6.0 Command: /home/biocbuild/bbs-3.20-bioc/R/bin/R CMD check --install=check:EDIRquery.install-out.txt --library=/home/biocbuild/bbs-3.20-bioc/R/site-library --timings EDIRquery_1.6.0.tar.gz StartedAt: 2025-01-30 21:53:23 -0500 (Thu, 30 Jan 2025) EndedAt: 2025-01-30 21:56:18 -0500 (Thu, 30 Jan 2025) EllapsedTime: 175.2 seconds RetCode: 0 Status: OK CheckDir: EDIRquery.Rcheck Warnings: 0