Package: EDIRquery Version: 1.6.0 Command: /Library/Frameworks/R.framework/Resources/bin/R CMD build --keep-empty-dirs --no-resave-data EDIRquery StartedAt: 2025-01-30 23:07:42 -0500 (Thu, 30 Jan 2025) EndedAt: 2025-01-30 23:08:30 -0500 (Thu, 30 Jan 2025) EllapsedTime: 48.3 seconds RetCode: 0 Status: OK PackageFile: EDIRquery_1.6.0.tar.gz PackageFileSize: 1.376 MiB