Package: EBSeq Version: 2.4.0 Command: F:\biocbuild\bbs-3.20-bioc\R\bin\R.exe CMD INSTALL EBSeq StartedAt: 2025-01-30 15:54:31 -0500 (Thu, 30 Jan 2025) EndedAt: 2025-01-30 15:54:42 -0500 (Thu, 30 Jan 2025) EllapsedTime: 11.6 seconds RetCode: 1 Status: ERROR