Package: EBImage Version: 4.48.0 Command: /Library/Frameworks/R.framework/Resources/bin/R CMD build --keep-empty-dirs --no-resave-data EBImage StartedAt: 2025-01-30 18:51:47 -0500 (Thu, 30 Jan 2025) EndedAt: 2025-01-30 18:53:29 -0500 (Thu, 30 Jan 2025) EllapsedTime: 101.6 seconds RetCode: 0 Status: OK PackageFile: EBImage_4.48.0.tar.gz PackageFileSize: 6.296 MiB