Package: EBImage Version: 4.48.0 Command: /Library/Frameworks/R.framework/Resources/bin/R CMD INSTALL EBImage StartedAt: 2024-11-19 15:24:39 -0500 (Tue, 19 Nov 2024) EndedAt: 2024-11-19 15:25:01 -0500 (Tue, 19 Nov 2024) EllapsedTime: 21.9 seconds RetCode: 0 Status: OK