Package: DynDoc Version: 1.84.0 Command: /Library/Frameworks/R.framework/Resources/bin/R CMD build --keep-empty-dirs --no-resave-data DynDoc StartedAt: 2025-01-30 23:00:52 -0500 (Thu, 30 Jan 2025) EndedAt: 2025-01-30 23:00:53 -0500 (Thu, 30 Jan 2025) EllapsedTime: 1.2 seconds RetCode: 0 Status: OK PackageFile: DynDoc_1.84.0.tar.gz PackageFileSize: 10.97 KiB