Package: DiscoRhythm Version: 1.22.0 Command: /Library/Frameworks/R.framework/Resources/bin/R CMD build --keep-empty-dirs --no-resave-data DiscoRhythm StartedAt: 2025-01-30 22:45:59 -0500 (Thu, 30 Jan 2025) EndedAt: 2025-01-30 22:46:51 -0500 (Thu, 30 Jan 2025) EllapsedTime: 51.7 seconds RetCode: 0 Status: OK PackageFile: DiscoRhythm_1.22.0.tar.gz PackageFileSize: 2.522 MiB