Package: DirichletMultinomial Version: 1.48.0 Command: /home/biocbuild/R/R/bin/R CMD build --keep-empty-dirs --no-resave-data DirichletMultinomial StartedAt: 2025-01-30 23:12:33 -0000 (Thu, 30 Jan 2025) EndedAt: 2025-01-30 23:12:55 -0000 (Thu, 30 Jan 2025) EllapsedTime: 22.0 seconds RetCode: 0 Status: OK PackageFile: DirichletMultinomial_1.48.0.tar.gz PackageFileSize: 845.6 KiB