Package: DepecheR Version: 1.22.0 Command: /Library/Frameworks/R.framework/Resources/bin/R CMD INSTALL DepecheR StartedAt: 2025-01-30 16:37:15 -0500 (Thu, 30 Jan 2025) EndedAt: 2025-01-30 16:37:43 -0500 (Thu, 30 Jan 2025) EllapsedTime: 28.8 seconds RetCode: 0 Status: OK