Package: DepInfeR Version: 1.10.0 Command: /Library/Frameworks/R.framework/Resources/bin/R CMD check --install=check:DepInfeR.install-out.txt --library=/Library/Frameworks/R.framework/Resources/library --no-vignettes --timings DepInfeR_1.10.0.tar.gz StartedAt: 2025-01-31 02:53:36 -0500 (Fri, 31 Jan 2025) EndedAt: 2025-01-31 02:57:09 -0500 (Fri, 31 Jan 2025) EllapsedTime: 213.1 seconds RetCode: 0 Status: OK CheckDir: DepInfeR.Rcheck Warnings: 0