Package: DepInfeR Version: 1.10.0 Command: /Library/Frameworks/R.framework/Resources/bin/R CMD INSTALL DepInfeR StartedAt: 2025-01-30 17:10:55 -0500 (Thu, 30 Jan 2025) EndedAt: 2025-01-30 17:11:02 -0500 (Thu, 30 Jan 2025) EllapsedTime: 7.0 seconds RetCode: 0 Status: OK