Package: DepInfeR Version: 1.10.0 Command: /Library/Frameworks/R.framework/Resources/bin/R CMD build --keep-empty-dirs --no-resave-data DepInfeR StartedAt: 2025-01-30 22:27:21 -0500 (Thu, 30 Jan 2025) EndedAt: 2025-01-30 22:28:32 -0500 (Thu, 30 Jan 2025) EllapsedTime: 70.9 seconds RetCode: 0 Status: OK PackageFile: DepInfeR_1.10.0.tar.gz PackageFileSize: 2.351 MiB