Package: DepInfeR Version: 1.10.0 Command: rm -rf DepInfeR.buildbin-libdir && mkdir DepInfeR.buildbin-libdir && /Users/biocbuild/BBS/utils/build-universal.sh DepInfeR_1.10.0.tar.gz /Library/Frameworks/R.framework/Resources/bin/R DepInfeR.buildbin-libdir StartedAt: 2025-02-01 14:38:31 -0500 (Sat, 01 Feb 2025) EndedAt: 2025-02-01 14:38:39 -0500 (Sat, 01 Feb 2025) EllapsedTime: 8.0 seconds RetCode: 0 Status: OK PackageFile: DepInfeR_1.10.0.tgz PackageFileSize: 2.373 MiB