Package: DelayedRandomArray Version: 1.14.0 Command: rm -rf DelayedRandomArray.buildbin-libdir && mkdir DelayedRandomArray.buildbin-libdir && F:\biocbuild\bbs-3.20-bioc\R\bin\R.exe CMD INSTALL --build --library=DelayedRandomArray.buildbin-libdir DelayedRandomArray_1.14.0.tar.gz StartedAt: 2025-01-31 08:31:15 -0500 (Fri, 31 Jan 2025) EndedAt: 2025-01-31 08:33:48 -0500 (Fri, 31 Jan 2025) EllapsedTime: 153.0 seconds RetCode: 0 Status: OK PackageFile: DelayedRandomArray_1.14.0.zip PackageFileSize: 986 KiB