Package: DeMixT Version: 1.22.0 Command: /home/biocbuild/R/R/bin/R CMD check --install=check:DeMixT.install-out.txt --library=/home/biocbuild/R/R/site-library --no-vignettes --timings DeMixT_1.22.0.tar.gz StartedAt: 2025-01-31 05:36:15 -0000 (Fri, 31 Jan 2025) EndedAt: 2025-01-31 05:43:48 -0000 (Fri, 31 Jan 2025) EllapsedTime: 452.5 seconds RetCode: 0 Status: WARNINGS CheckDir: DeMixT.Rcheck Warnings: 3