Package: DeMixT Version: 1.22.0 Command: /home/biocbuild/bbs-3.20-bioc/R/bin/R CMD check --install=check:DeMixT.install-out.txt --library=/home/biocbuild/bbs-3.20-bioc/R/site-library --timings DeMixT_1.22.0.tar.gz StartedAt: 2025-01-30 21:33:40 -0500 (Thu, 30 Jan 2025) EndedAt: 2025-01-30 21:39:55 -0500 (Thu, 30 Jan 2025) EllapsedTime: 375.4 seconds RetCode: 0 Status: WARNINGS CheckDir: DeMixT.Rcheck Warnings: 3