Package: DTA Version: 2.52.0 Command: /home/biocbuild/R/R/bin/R CMD check --install=check:DTA.install-out.txt --library=/home/biocbuild/R/R/site-library --no-vignettes --timings DTA_2.52.0.tar.gz StartedAt: 2025-01-31 05:52:18 -0000 (Fri, 31 Jan 2025) EndedAt: 2025-01-31 05:56:17 -0000 (Fri, 31 Jan 2025) EllapsedTime: 239.2 seconds RetCode: 0 Status: OK CheckDir: DTA.Rcheck Warnings: 0