Package: DSS Version: 2.54.0 Command: /home/biocbuild/bbs-3.20-bioc/R/bin/R CMD INSTALL DSS StartedAt: 2025-01-30 15:23:37 -0500 (Thu, 30 Jan 2025) EndedAt: 2025-01-30 15:24:19 -0500 (Thu, 30 Jan 2025) EllapsedTime: 41.8 seconds RetCode: 0 Status: OK