Package: DNABarcodes Version: 1.36.0 Command: F:\biocbuild\bbs-3.20-bioc\R\bin\R.exe CMD INSTALL DNABarcodes StartedAt: 2025-01-30 16:23:01 -0500 (Thu, 30 Jan 2025) EndedAt: 2025-01-30 16:24:33 -0500 (Thu, 30 Jan 2025) EllapsedTime: 91.8 seconds RetCode: 0 Status: OK