Package: DNABarcodes Version: 1.36.0 Command: chmod a+r DNABarcodes -R && F:\biocbuild\bbs-3.20-bioc\R\bin\R.exe CMD build --keep-empty-dirs --no-resave-data DNABarcodes StartedAt: 2025-01-30 18:30:12 -0500 (Thu, 30 Jan 2025) EndedAt: 2025-01-30 18:33:02 -0500 (Thu, 30 Jan 2025) EllapsedTime: 170.3 seconds RetCode: 0 Status: OK PackageFile: DNABarcodes_1.36.0.tar.gz PackageFileSize: 348 KiB