Package: DMRcate Version: 3.2.1 Command: /home/biocbuild/R/R/bin/R CMD build --keep-empty-dirs --no-resave-data DMRcate StartedAt: 2025-01-30 23:13:50 -0000 (Thu, 30 Jan 2025) EndedAt: 2025-01-30 23:32:09 -0000 (Thu, 30 Jan 2025) EllapsedTime: 1099.4 seconds RetCode: 0 Status: OK PackageFile: DMRcate_3.2.1.tar.gz PackageFileSize: 799.5 KiB