Package: DMRcate Version: 3.2.1 Command: chmod a+r DMRcate -R && F:\biocbuild\bbs-3.20-bioc\R\bin\R.exe CMD build --keep-empty-dirs --no-resave-data DMRcate StartedAt: 2025-01-30 18:29:33 -0500 (Thu, 30 Jan 2025) EndedAt: 2025-01-30 18:53:00 -0500 (Thu, 30 Jan 2025) EllapsedTime: 1407.3 seconds RetCode: 0 Status: OK PackageFile: DMRcate_3.2.1.tar.gz PackageFileSize: 810.2 KiB