Package: DMRcate Version: 3.2.1 Command: /Library/Frameworks/R.framework/Resources/bin/R CMD check --install=check:DMRcate.install-out.txt --library=/Library/Frameworks/R.framework/Resources/library --no-vignettes --timings DMRcate_3.2.1.tar.gz StartedAt: 2025-01-31 17:49:12 -0500 (Fri, 31 Jan 2025) EndedAt: 2025-01-31 18:13:51 -0500 (Fri, 31 Jan 2025) EllapsedTime: 1478.6 seconds RetCode: 0 Status: OK CheckDir: DMRcate.Rcheck Warnings: 0