Package: DMCFB Version: 1.20.0 Command: F:\biocbuild\bbs-3.20-bioc\R\bin\R.exe CMD check --no-multiarch --install=check:DMCFB.install-out.txt --library=F:\biocbuild\bbs-3.20-bioc\R\library --no-vignettes --timings DMCFB_1.20.0.tar.gz StartedAt: 2025-01-31 01:30:26 -0500 (Fri, 31 Jan 2025) EndedAt: 2025-01-31 01:36:29 -0500 (Fri, 31 Jan 2025) EllapsedTime: 363.9 seconds RetCode: 0 Status: OK CheckDir: DMCFB.Rcheck Warnings: 0