Package: DMCFB Version: 1.20.0 Command: /Library/Frameworks/R.framework/Resources/bin/R CMD INSTALL DMCFB StartedAt: 2025-01-30 15:58:32 -0500 (Thu, 30 Jan 2025) EndedAt: 2025-01-30 15:59:13 -0500 (Thu, 30 Jan 2025) EllapsedTime: 41.2 seconds RetCode: 0 Status: OK