Package: DMCFB Version: 1.20.0 Command: rm -rf DMCFB.buildbin-libdir && mkdir DMCFB.buildbin-libdir && /Users/biocbuild/BBS/utils/build-universal.sh DMCFB_1.20.0.tar.gz /Library/Frameworks/R.framework/Resources/bin/R DMCFB.buildbin-libdir StartedAt: 2025-02-01 14:42:25 -0500 (Sat, 01 Feb 2025) EndedAt: 2025-02-01 14:43:10 -0500 (Sat, 01 Feb 2025) EllapsedTime: 45.3 seconds RetCode: 0 Status: OK PackageFile: DMCFB_1.20.0.tgz PackageFileSize: 1.208 MiB