Package: DIAlignR Version: 2.14.0 Command: /home/biocbuild/bbs-3.20-bioc/R/bin/R CMD check --install=check:DIAlignR.install-out.txt --library=/home/biocbuild/bbs-3.20-bioc/R/site-library --timings DIAlignR_2.14.0.tar.gz StartedAt: 2025-01-30 21:39:11 -0500 (Thu, 30 Jan 2025) EndedAt: 2025-01-30 21:42:01 -0500 (Thu, 30 Jan 2025) EllapsedTime: 169.2 seconds RetCode: 1 Status: ERROR CheckDir: DIAlignR.Rcheck Warnings: NA