Package: DEsingle Version: 1.26.0 Command: /Library/Frameworks/R.framework/Resources/bin/R CMD build --keep-empty-dirs --no-resave-data DEsingle StartedAt: 2025-01-30 18:35:22 -0500 (Thu, 30 Jan 2025) EndedAt: 2025-01-30 18:35:53 -0500 (Thu, 30 Jan 2025) EllapsedTime: 31.4 seconds RetCode: 0 Status: OK PackageFile: DEsingle_1.26.0.tar.gz PackageFileSize: 379.9 KiB