Package: DEsingle Version: 1.26.0 Command: rm -rf DEsingle.buildbin-libdir && mkdir DEsingle.buildbin-libdir && /Users/biocbuild/BBS/utils/build-universal.sh DEsingle_1.26.0.tar.gz /Library/Frameworks/R.framework/Resources/bin/R DEsingle.buildbin-libdir StartedAt: 2025-01-31 12:40:56 -0500 (Fri, 31 Jan 2025) EndedAt: 2025-01-31 12:41:15 -0500 (Fri, 31 Jan 2025) EllapsedTime: 19.5 seconds RetCode: 0 Status: OK PackageFile: DEsingle_1.26.0.tgz PackageFileSize: 392 KiB