Package: DEXSeq Version: 1.52.0 Command: /home/biocbuild/R/R/bin/R CMD check --install=check:DEXSeq.install-out.txt --library=/home/biocbuild/R/R/site-library --no-vignettes --timings DEXSeq_1.52.0.tar.gz StartedAt: 2025-01-31 05:39:01 -0000 (Fri, 31 Jan 2025) EndedAt: 2025-01-31 05:45:10 -0000 (Fri, 31 Jan 2025) EllapsedTime: 369.3 seconds RetCode: 0 Status: OK CheckDir: DEXSeq.Rcheck Warnings: 0