Package: DESpace Version: 1.6.0 Command: /home/biocbuild/R/R/bin/R CMD build --keep-empty-dirs --no-resave-data DESpace StartedAt: 2025-01-30 23:09:12 -0000 (Thu, 30 Jan 2025) EndedAt: 2025-01-30 23:11:24 -0000 (Thu, 30 Jan 2025) EllapsedTime: 132.0 seconds RetCode: 1 Status: ERROR PackageFile: None PackageFileSize: NA