Package: DEScan2 Version: 1.26.0 Command: F:\biocbuild\bbs-3.20-bioc\R\bin\R.exe CMD check --no-multiarch --install=check:DEScan2.install-out.txt --library=F:\biocbuild\bbs-3.20-bioc\R\library --no-vignettes --timings DEScan2_1.26.0.tar.gz StartedAt: 2025-01-31 01:21:38 -0500 (Fri, 31 Jan 2025) EndedAt: 2025-01-31 01:32:07 -0500 (Fri, 31 Jan 2025) EllapsedTime: 628.8 seconds RetCode: 0 Status: WARNINGS CheckDir: DEScan2.Rcheck Warnings: 2