Package: DEGreport Version: 1.42.0 Command: /home/biocbuild/R/R/bin/R CMD build --keep-empty-dirs --no-resave-data DEGreport StartedAt: 2025-01-30 23:04:22 -0000 (Thu, 30 Jan 2025) EndedAt: 2025-01-30 23:05:59 -0000 (Thu, 30 Jan 2025) EllapsedTime: 97.0 seconds RetCode: 0 Status: OK PackageFile: DEGreport_1.42.0.tar.gz PackageFileSize: 18.85 MiB