Package: DECIPHER Version: 3.2.0 Command: /home/biocbuild/bbs-3.20-bioc/R/bin/R CMD build --keep-empty-dirs --no-resave-data --md5 DECIPHER StartedAt: 2025-01-30 16:57:10 -0500 (Thu, 30 Jan 2025) EndedAt: 2025-01-30 17:14:10 -0500 (Thu, 30 Jan 2025) EllapsedTime: 1020.3 seconds RetCode: 0 Status: OK PackageFile: DECIPHER_3.2.0.tar.gz PackageFileSize: 16.92 MiB