Package: DART Version: 1.54.0 Command: F:\biocbuild\bbs-3.20-bioc\R\bin\R.exe CMD check --no-multiarch --install=check:DART.install-out.txt --library=F:\biocbuild\bbs-3.20-bioc\R\library --no-vignettes --timings DART_1.54.0.tar.gz StartedAt: 2025-01-31 01:07:39 -0500 (Fri, 31 Jan 2025) EndedAt: 2025-01-31 01:08:29 -0500 (Fri, 31 Jan 2025) EllapsedTime: 49.3 seconds RetCode: 0 Status: OK CheckDir: DART.Rcheck Warnings: 0