Package: DAMEfinder Version: 1.18.0 Command: /home/biocbuild/bbs-3.20-bioc/R/bin/R CMD INSTALL DAMEfinder StartedAt: 2025-01-30 15:27:01 -0500 (Thu, 30 Jan 2025) EndedAt: 2025-01-30 15:27:27 -0500 (Thu, 30 Jan 2025) EllapsedTime: 26.0 seconds RetCode: 0 Status: OK