Package: CytoML Version: 2.18.0 Command: /home/biocbuild/bbs-3.20-bioc/R/bin/R CMD build --keep-empty-dirs --no-resave-data CytoML StartedAt: 2024-11-19 18:25:15 -0500 (Tue, 19 Nov 2024) EndedAt: 2024-11-19 18:26:58 -0500 (Tue, 19 Nov 2024) EllapsedTime: 102.8 seconds RetCode: 0 Status: OK PackageFile: CytoML_2.18.0.tar.gz PackageFileSize: 8.054 MiB