Package: CytoML Version: 2.18.1 Command: /home/biocbuild/R/R/bin/R CMD check --install=check:CytoML.install-out.txt --library=/home/biocbuild/R/R/site-library --no-vignettes --timings CytoML_2.18.1.tar.gz StartedAt: 2025-01-31 05:24:43 -0000 (Fri, 31 Jan 2025) EndedAt: 2025-01-31 05:27:39 -0000 (Fri, 31 Jan 2025) EllapsedTime: 176.1 seconds RetCode: 0 Status: WARNINGS CheckDir: CytoML.Rcheck Warnings: 5