Package: CrispRVariants Version: 1.34.0 Command: /Library/Frameworks/R.framework/Resources/bin/R CMD check --install=check:CrispRVariants.install-out.txt --library=/Library/Frameworks/R.framework/Resources/library --no-vignettes --timings CrispRVariants_1.34.0.tar.gz StartedAt: 2025-01-31 15:58:12 -0500 (Fri, 31 Jan 2025) EndedAt: 2025-01-31 16:03:42 -0500 (Fri, 31 Jan 2025) EllapsedTime: 330.4 seconds RetCode: 0 Status: WARNINGS CheckDir: CrispRVariants.Rcheck Warnings: 2