Package: Cormotif Version: 1.52.0 Command: /home/biocbuild/R/R/bin/R CMD build --keep-empty-dirs --no-resave-data Cormotif StartedAt: 2025-01-30 22:51:27 -0000 (Thu, 30 Jan 2025) EndedAt: 2025-01-30 22:52:06 -0000 (Thu, 30 Jan 2025) EllapsedTime: 39.0 seconds RetCode: 0 Status: OK PackageFile: Cormotif_1.52.0.tar.gz PackageFileSize: 368.1 KiB