Package: Cormotif Version: 1.52.0 Command: chmod a+r Cormotif -R && F:\biocbuild\bbs-3.20-bioc\R\bin\R.exe CMD build --keep-empty-dirs --no-resave-data Cormotif StartedAt: 2025-01-30 18:07:30 -0500 (Thu, 30 Jan 2025) EndedAt: 2025-01-30 18:08:16 -0500 (Thu, 30 Jan 2025) EllapsedTime: 46.2 seconds RetCode: 0 Status: OK PackageFile: Cormotif_1.52.0.tar.gz PackageFileSize: 272.8 KiB