Package: Cormotif Version: 1.52.0 Command: rm -rf Cormotif.buildbin-libdir && mkdir Cormotif.buildbin-libdir && F:\biocbuild\bbs-3.20-bioc\R\bin\R.exe CMD INSTALL --build --library=Cormotif.buildbin-libdir Cormotif_1.52.0.tar.gz StartedAt: 2025-01-31 08:26:38 -0500 (Fri, 31 Jan 2025) EndedAt: 2025-01-31 08:26:52 -0500 (Fri, 31 Jan 2025) EllapsedTime: 14.7 seconds RetCode: 0 Status: OK PackageFile: Cormotif_1.52.0.zip PackageFileSize: 322.8 KiB