Package: Cormotif Version: 1.52.0 Command: rm -rf Cormotif.buildbin-libdir && mkdir Cormotif.buildbin-libdir && /Users/biocbuild/BBS/utils/build-universal.sh Cormotif_1.52.0.tar.gz /Library/Frameworks/R.framework/Resources/bin/R Cormotif.buildbin-libdir StartedAt: 2025-02-01 14:27:38 -0500 (Sat, 01 Feb 2025) EndedAt: 2025-02-01 14:27:45 -0500 (Sat, 01 Feb 2025) EllapsedTime: 6.8 seconds RetCode: 0 Status: OK PackageFile: Cormotif_1.52.0.tgz PackageFileSize: 429.6 KiB