Package: ConsensusClusterPlus Version: 1.70.0 Command: /home/biocbuild/R/R/bin/R CMD build --keep-empty-dirs --no-resave-data ConsensusClusterPlus StartedAt: 2025-01-30 22:48:50 -0000 (Thu, 30 Jan 2025) EndedAt: 2025-01-30 22:49:05 -0000 (Thu, 30 Jan 2025) EllapsedTime: 15.0 seconds RetCode: 0 Status: OK PackageFile: ConsensusClusterPlus_1.70.0.tar.gz PackageFileSize: 383.8 KiB