Package: ComPrAn Version: 1.14.0 Command: chmod a+r ComPrAn -R && F:\biocbuild\bbs-3.20-bioc\R\bin\R.exe CMD build --keep-empty-dirs --no-resave-data ComPrAn StartedAt: 2025-01-30 18:05:13 -0500 (Thu, 30 Jan 2025) EndedAt: 2025-01-30 18:05:50 -0500 (Thu, 30 Jan 2025) EllapsedTime: 37.0 seconds RetCode: 0 Status: OK PackageFile: ComPrAn_1.14.0.tar.gz PackageFileSize: 3.053 MiB